BEGIN:VCALENDAR
VERSION:2.0
PRODID:-//Sabre//Sabre VObject 4.5.8//EN
CALSCALE:GREGORIAN
BEGIN:VEVENT
UID:criticalmass-one-kirchheim-unter-teck-1664110800
DTSTAMP:20260424T132112Z
SUMMARY:Kidical Mass Kirchheim unter Teck 25.09.2022
DTSTART;TZID=Europe/Berlin:20220925T150000
DTEND;TZID=Europe/Berlin:20220925T170000
LOCATION:Stadtbücherei
GEO:48.648651;9.449847
URL;VALUE=URI:https://criticalmass.in/kirchheim-unter-teck/kidical-mass-kir
 chheim-unter-teck-september-2022
END:VEVENT
END:VCALENDAR
