BEGIN:VCALENDAR
VERSION:2.0
PRODID:-//Sabre//Sabre VObject 4.5.8//EN
CALSCALE:GREGORIAN
BEGIN:VEVENT
UID:criticalmass-one-kirchheim-unter-teck-1652455800
DTSTAMP:20260424T103206Z
SUMMARY:Kidical Mass Kirchheim unter Teck 13.05.2022
DTSTART;TZID=Europe/Berlin:20220513T173000
DTEND;TZID=Europe/Berlin:20220513T193000
LOCATION:Stadtbücherei
GEO:48.648534;9.450002
URL;VALUE=URI:https://criticalmass.in/kirchheim-unter-teck/kidical-mass-kir
 chheim-unter-teck-mai-2022
END:VEVENT
END:VCALENDAR
