BEGIN:VCALENDAR
VERSION:2.0
PRODID:-//Sabre//Sabre VObject 4.5.8//EN
CALSCALE:GREGORIAN
BEGIN:VEVENT
UID:criticalmass-one-kirchheim-unter-teck-1686324600
DTSTAMP:20260425T011922Z
SUMMARY:31. Kirchheimer Critical Mass
DTSTART;TZID=Europe/Berlin:20230609T173000
DTEND;TZID=Europe/Berlin:20230609T193000
LOCATION:Stadtbücherei
GEO:48.648682;9.449932
URL;VALUE=URI:https://criticalmass.in/kirchheim-unter-teck/2023-06-09
END:VEVENT
END:VCALENDAR
