BEGIN:VCALENDAR
VERSION:2.0
PRODID:-//Sabre//Sabre VObject 4.5.8//EN
CALSCALE:GREGORIAN
BEGIN:VEVENT
UID:criticalmass-one-kirchheim-u-t-1678465800
DTSTAMP:20260426T022323Z
SUMMARY:28. Kirchheimer Critical Mass
DESCRIPTION:Wir starten wieder in die Saison!\nJeden zweiten Freitag im Mon
 at fahren wir gemeinsam durch die Stadt.\nSo zeigen wir den Verkehrsplaner
 n\, dass es auch Radfahrende gibt\, die berücksichtigt werden wollen.\nWi
 r bewegen uns als "Kritische Masse" durch den Autoverkehr und fordern mehr
  Platz für intelligente\, umweltfreundliche Mobilität anstelle immer neu
 er Blechlawinen.
DTSTART;TZID=Europe/Berlin:20230310T173000
DTEND;TZID=Europe/Berlin:20230310T193000
LOCATION:Stadtbücherei Kirchheim unter Teck
GEO:48.648771;9.450066
URL;VALUE=URI:https://criticalmass.in/kirchheim-u-t/2023-03-10
END:VEVENT
END:VCALENDAR
