BEGIN:VCALENDAR
VERSION:2.0
PRODID:-//Sabre//Sabre VObject 4.5.8//EN
CALSCALE:GREGORIAN
BEGIN:VEVENT
UID:criticalmass-one-kiel-1714813200
DTSTAMP:20260422T122431Z
SUMMARY:Kidical Mass Kiel 04.05.2024
DTSTART;TZID=Europe/Berlin:20240504T110000
DTEND;TZID=Europe/Berlin:20240504T130000
LOCATION:Kiel Wilhemplatz
GEO:54.323293;10.122765
URL;VALUE=URI:https://criticalmass.in/kiel/kidical-mass-kiel-mai-2024
END:VEVENT
END:VCALENDAR
