BEGIN:VCALENDAR
VERSION:2.0
PRODID:-//Sabre//Sabre VObject 4.5.8//EN
CALSCALE:GREGORIAN
BEGIN:VEVENT
UID:criticalmass-one-kiel-1751043600
DTSTAMP:20260423T143006Z
SUMMARY:Critical Mass Kiel 27.06.2025
DTSTART;TZID=Europe/Berlin:20250627T190000
DTEND;TZID=Europe/Berlin:20250627T210000
LOCATION:Holstenfleet/Bootshafen/Berliner Platz
GEO:54.321467;10.137484
URL;VALUE=URI:https://criticalmass.in/kiel/2025-06-27
END:VEVENT
END:VCALENDAR
