BEGIN:VCALENDAR
VERSION:2.0
PRODID:-//Sabre//Sabre VObject 4.5.8//EN
CALSCALE:GREGORIAN
BEGIN:VEVENT
UID:criticalmass-one-kiel-1748624400
DTSTAMP:20260422T080754Z
SUMMARY:Critical Mass Kiel 30.05.2025
DTSTART;TZID=Europe/Berlin:20250530T190000
DTEND;TZID=Europe/Berlin:20250530T210000
LOCATION:Holstenfleet/Bootshafen/Berliner Platz
GEO:54.321467;10.137484
URL;VALUE=URI:https://criticalmass.in/kiel/2025-05-30
END:VEVENT
END:VCALENDAR
