BEGIN:VCALENDAR
VERSION:2.0
PRODID:-//Sabre//Sabre VObject 4.5.8//EN
CALSCALE:GREGORIAN
BEGIN:VEVENT
UID:criticalmass-one-kiel-1745600400
DTSTAMP:20260421T172320Z
SUMMARY:Critical Mass Kiel 25.04.2025
DTSTART;TZID=Europe/Berlin:20250425T190000
DTEND;TZID=Europe/Berlin:20250425T210000
LOCATION:Holstenfleet/Bootshafen/Berliner Platz
GEO:54.321467;10.137484
URL;VALUE=URI:https://criticalmass.in/kiel/2025-04-25
END:VEVENT
END:VCALENDAR
