BEGIN:VCALENDAR
VERSION:2.0
PRODID:-//Sabre//Sabre VObject 4.5.8//EN
CALSCALE:GREGORIAN
BEGIN:VEVENT
UID:criticalmass-one-kiel-1714150800
DTSTAMP:20260422T145329Z
SUMMARY:Critical Mass Kiel 26.04.2024
DTSTART;TZID=Europe/Berlin:20240426T190000
DTEND;TZID=Europe/Berlin:20240426T210000
LOCATION:Holstenfleet/Bootshafen/Berliner Platz
GEO:54.321467;10.137484
URL;VALUE=URI:https://criticalmass.in/kiel/2024-04-26
END:VEVENT
END:VCALENDAR
