BEGIN:VCALENDAR
VERSION:2.0
PRODID:-//Sabre//Sabre VObject 4.5.8//EN
CALSCALE:GREGORIAN
BEGIN:VEVENT
UID:criticalmass-one-kiel-1696006800
DTSTAMP:20260423T085438Z
SUMMARY:Critical Mass Kiel 29.09.2023
DTSTART;TZID=Europe/Berlin:20230929T190000
DTEND;TZID=Europe/Berlin:20230929T210000
LOCATION:Holstenfleet/Bootshafen/Berliner Platz
GEO:54.321473;10.137495
URL;VALUE=URI:https://criticalmass.in/kiel/2023-09-29
END:VEVENT
END:VCALENDAR
