BEGIN:VCALENDAR
VERSION:2.0
PRODID:-//Sabre//Sabre VObject 4.5.8//EN
CALSCALE:GREGORIAN
BEGIN:VEVENT
UID:criticalmass-one-kiel-1690563600
DTSTAMP:20260423T034432Z
SUMMARY:Critical Mass Kiel 28.07.2023
DTSTART;TZID=Europe/Berlin:20230728T190000
DTEND;TZID=Europe/Berlin:20230728T210000
LOCATION:Platz der Kieler Matrosen
GEO:54.315605;10.132773
URL;VALUE=URI:https://criticalmass.in/kiel/2023-07-28
END:VEVENT
END:VCALENDAR
