BEGIN:VCALENDAR
VERSION:2.0
PRODID:-//Sabre//Sabre VObject 4.5.8//EN
CALSCALE:GREGORIAN
BEGIN:VEVENT
UID:criticalmass-one-kiel-1688144400
DTSTAMP:20260419T134510Z
SUMMARY:Critical Mass Kiel 30.06.2023
DTSTART;TZID=Europe/Berlin:20230630T190000
DTEND;TZID=Europe/Berlin:20230630T210000
LOCATION:Holstenfleet/Bootshafen/Berliner Platz
GEO:54.321476;10.137740
URL;VALUE=URI:https://criticalmass.in/kiel/2023-06-30
END:VEVENT
END:VCALENDAR
