BEGIN:VCALENDAR
VERSION:2.0
PRODID:-//Sabre//Sabre VObject 4.5.8//EN
CALSCALE:GREGORIAN
BEGIN:VEVENT
UID:criticalmass-one-kiel-1685120400
DTSTAMP:20260423T185532Z
SUMMARY:Critical Mass Kiel Fr.26.05.2023
DTSTART;TZID=Europe/Berlin:20230526T190000
DTEND;TZID=Europe/Berlin:20230526T210000
LOCATION:Holstenfleet/Bootshafen/Berliner Platz
GEO:54.321461;10.137752
URL;VALUE=URI:https://criticalmass.in/kiel/2023-05-26
END:VEVENT
END:VCALENDAR
