BEGIN:VCALENDAR
VERSION:2.0
PRODID:-//Sabre//Sabre VObject 4.5.8//EN
CALSCALE:GREGORIAN
BEGIN:VEVENT
UID:criticalmass-one-kiel-1682701200
DTSTAMP:20260425T151923Z
SUMMARY:Critical Mass Kiel 28.04.2023
DESCRIPTION:Geändert durch  https://cm-social.com/ Aktueller Startort gem
 äß\nhttps://norden.social/@CriticalMassKiel/110187711661958558\n\noder a
 uch \n\nhttps://mastodon.social/@fschamerowski/109906787031579132\n\nUrspr
 ünglicher und nun wieder neuer Startpunkt ist der #Holstenfleet bzw. Klei
 ner-Kiel-Kanal.
DTSTART;TZID=Europe/Berlin:20230428T190000
DTEND;TZID=Europe/Berlin:20230428T210000
LOCATION:Startpunkt ist der #Holstenfleet bzw. Kleiner-Kiel-Kanal.
GEO:54.321614;10.137775
URL;VALUE=URI:https://criticalmass.in/kiel/2023-04-28
END:VEVENT
END:VCALENDAR
