BEGIN:VCALENDAR
VERSION:2.0
PRODID:-//Sabre//Sabre VObject 4.5.8//EN
CALSCALE:GREGORIAN
BEGIN:VEVENT
UID:criticalmass-one-kiel-1680282000
DTSTAMP:20260422T012214Z
SUMMARY:Critical Mass Kiel 31.03.2023
DTSTART;TZID=Europe/Berlin:20230331T190000
DTEND;TZID=Europe/Berlin:20230331T210000
LOCATION:Platz der Kieler Matrosen
GEO:54.315605;10.132773
URL;VALUE=URI:https://criticalmass.in/kiel/2023-03-31
END:VEVENT
END:VCALENDAR
