BEGIN:VCALENDAR
VERSION:2.0
PRODID:-//Sabre//Sabre VObject 4.5.8//EN
CALSCALE:GREGORIAN
BEGIN:VEVENT
UID:criticalmass-one-kiel-1672423200
DTSTAMP:20260422T073314Z
SUMMARY:Critical Mass Kiel 30.12.2022
DTSTART;TZID=Europe/Berlin:20221230T190000
DTEND;TZID=Europe/Berlin:20221230T210000
LOCATION:Platz der Kieler Matrosen
GEO:54.315605;10.132773
URL;VALUE=URI:https://criticalmass.in/kiel/2022-12-30
END:VEVENT
END:VCALENDAR
