BEGIN:VCALENDAR
VERSION:2.0
PRODID:-//Sabre//Sabre VObject 4.5.8//EN
CALSCALE:GREGORIAN
BEGIN:VEVENT
UID:criticalmass-one-kiel-1656090000
DTSTAMP:20260422T145934Z
SUMMARY:Critical Mass Kiel 24.06.2022
DTSTART;TZID=Europe/Berlin:20220624T190000
DTEND;TZID=Europe/Berlin:20220624T210000
LOCATION:Kieler Schloss
GEO:54.324220;10.142848
URL;VALUE=URI:https://criticalmass.in/kiel/2022-06-24
END:VEVENT
END:VCALENDAR
