BEGIN:VCALENDAR
VERSION:2.0
PRODID:-//Sabre//Sabre VObject 4.5.8//EN
CALSCALE:GREGORIAN
BEGIN:VEVENT
UID:criticalmass-one-kiel-1640973600
DTSTAMP:20260422T012311Z
SUMMARY:Critical Mass Dezember
DESCRIPTION:-
DTSTART;TZID=Europe/Berlin:20211231T190000
DTEND;TZID=Europe/Berlin:20211231T210000
GEO:54.315605;10.132773
URL;VALUE=URI:https://criticalmass.in/kiel/2021-12-31
END:VEVENT
END:VCALENDAR
