BEGIN:VCALENDAR
VERSION:2.0
PRODID:-//Sabre//Sabre VObject 4.5.8//EN
CALSCALE:GREGORIAN
BEGIN:VEVENT
UID:criticalmass-one-kiel-1635526800
DTSTAMP:20260422T012145Z
SUMMARY:Critical Mass Kiel 29.10.2021
DTSTART;TZID=Europe/Berlin:20211029T190000
DTEND;TZID=Europe/Berlin:20211029T210000
LOCATION:Bootshafen // Kleiner Kiel Kanal
GEO:54.321529;10.137742
URL;VALUE=URI:https://criticalmass.in/kiel/2021-10-29
END:VEVENT
END:VCALENDAR
