BEGIN:VCALENDAR
VERSION:2.0
PRODID:-//Sabre//Sabre VObject 4.5.8//EN
CALSCALE:GREGORIAN
BEGIN:VEVENT
UID:criticalmass-one-kiel-1630083600
DTSTAMP:20260423T064822Z
SUMMARY:Critical Mass Kiel 27.08.2021
DTSTART;TZID=Europe/Berlin:20210827T190000
DTEND;TZID=Europe/Berlin:20210827T210000
LOCATION:Platz der Kieler Matrosen
GEO:54.315605;10.132773
URL;VALUE=URI:https://criticalmass.in/kiel/2021-08-27
END:VEVENT
END:VCALENDAR
