BEGIN:VCALENDAR
VERSION:2.0
PRODID:-//Sabre//Sabre VObject 4.5.8//EN
CALSCALE:GREGORIAN
BEGIN:VEVENT
UID:criticalmass-one-kiel-1622221200
DTSTAMP:20260422T060622Z
SUMMARY:Critical Mass
DESCRIPTION:10 Personen\, Radtour zu den Staubsaugern\, entlang der Velorou
 te 10 bis Kiellinie/Adalbertstraße\, am Wasser entlang bis Kieler Schloss
 \, am Kleinen Kiel entlang bis Exer
DTSTART;TZID=Europe/Berlin:20210528T190000
DTEND;TZID=Europe/Berlin:20210528T210000
LOCATION:Platz der Kieler Matrosen
GEO:54.315628;10.132699
URL;VALUE=URI:https://criticalmass.in/kiel/2021-05-28
END:VEVENT
END:VCALENDAR
