BEGIN:VCALENDAR
VERSION:2.0
PRODID:-//Sabre//Sabre VObject 4.5.8//EN
CALSCALE:GREGORIAN
BEGIN:VEVENT
UID:criticalmass-one-kiel-1619802000
DTSTAMP:20260423T110243Z
SUMMARY:Fahr Rad! (Demo)
DESCRIPTION:Polizei-Begleitung\, Überquerung der Hochbrücke
DTSTART;TZID=Europe/Berlin:20210430T190000
DTEND;TZID=Europe/Berlin:20210430T210000
LOCATION:Platz der Kieler Matrosen
GEO:54.315697;10.132667
URL;VALUE=URI:https://criticalmass.in/kiel/2021-04-30
END:VEVENT
END:VCALENDAR
