BEGIN:VCALENDAR
VERSION:2.0
PRODID:-//Sabre//Sabre VObject 4.5.8//EN
CALSCALE:GREGORIAN
BEGIN:VEVENT
UID:criticalmass-one-kiel-1596214800
DTSTAMP:20260421T155732Z
SUMMARY:Critical Mass Kiel 31.07.2020
DESCRIPTION:* Düsternbrooker Weg\, Kiellinie entlang bis Holtenauer Straß
 e\, entlang bis Knooper Weg\, weiter Exerzierplatz\, weiter Schützenwall\
 , entlang bis Westring\, ...\n\n* Es gab einen nachfolgenden Polizeiwagen 
 von Düsternbrooker Weg Ecke Reventlouallee bis Kiellinie Ecke Koesteralle
 e. \n* Beim Auftauchen eines Polizeiwagens mit Sonderrechten von hinten en
 tlang der Kiellinie\, abbiegend in die Lindenallee wurde vorbildlich kurzf
 ristig die gesamte Kiellinie von Radfahrern geräumt.\n* Hupkonzert von Au
 tofahrern von Elisabethstraße/Werftstraße bis Werftstraße/Gablenzbrück
 e\n* Polizei folgte von Werftstraße/Gablenzbrücke bis Hauptbahnhof.
DTSTART;TZID=Europe/Berlin:20200731T190000
DTEND;TZID=Europe/Berlin:20200731T210000
LOCATION:Platz der Kieler Matrosen
GEO:54.315605;10.132773
URL;VALUE=URI:https://criticalmass.in/kiel/2020-07-31
END:VEVENT
END:VCALENDAR
