BEGIN:VCALENDAR
VERSION:2.0
PRODID:-//Sabre//Sabre VObject 4.5.8//EN
CALSCALE:GREGORIAN
BEGIN:VEVENT
UID:criticalmass-one-kiel-1580493600
DTSTAMP:20260424T025928Z
SUMMARY:Critical Mass Kiel 31.01.2020
DTSTART;TZID=Europe/Berlin:20200131T190000
DTEND;TZID=Europe/Berlin:20200131T210000
LOCATION:Platz der Kieler Matrosen
GEO:54.315605;10.132773
URL;VALUE=URI:https://criticalmass.in/kiel/2020-01-31
END:VEVENT
END:VCALENDAR
