BEGIN:VCALENDAR
VERSION:2.0
PRODID:-//Sabre//Sabre VObject 4.5.8//EN
CALSCALE:GREGORIAN
BEGIN:VEVENT
UID:criticalmass-one-kiel-1559322000
DTSTAMP:20260423T050526Z
SUMMARY:Critical Mass Kiel 31.05.2019
DTSTART;TZID=Europe/Berlin:20190531T190000
DTEND;TZID=Europe/Berlin:20190531T210000
LOCATION:Platz der Kieler Matrosen
GEO:54.315605;10.132773
URL;VALUE=URI:https://criticalmass.in/kiel/2019-05-31
END:VEVENT
END:VCALENDAR
