BEGIN:VCALENDAR
VERSION:2.0
PRODID:-//Sabre//Sabre VObject 4.5.8//EN
CALSCALE:GREGORIAN
BEGIN:VEVENT
UID:criticalmass-one-kiel-1546020000
DTSTAMP:20260421T172201Z
SUMMARY:Critical Mass Kiel 28.12.2018
DTSTART;TZID=Europe/Berlin:20181228T190000
DTEND;TZID=Europe/Berlin:20181228T210000
LOCATION:Platz der Kieler Matrosen
GEO:54.315605;10.132773
URL;VALUE=URI:https://criticalmass.in/kiel/2018-12-28
END:VEVENT
END:VCALENDAR
