BEGIN:VCALENDAR
VERSION:2.0
PRODID:-//Sabre//Sabre VObject 4.5.8//EN
CALSCALE:GREGORIAN
BEGIN:VEVENT
UID:criticalmass-one-kiel-1506704400
DTSTAMP:20260423T002033Z
SUMMARY:Critical Mass Kiel 29.09.2017
DTSTART;TZID=Europe/Berlin:20170929T190000
DTEND;TZID=Europe/Berlin:20170929T210000
LOCATION:Bahnhofsvorplatz
GEO:54.315347;10.132957
URL;VALUE=URI:https://criticalmass.in/kiel/2017-09-29
END:VEVENT
END:VCALENDAR
