BEGIN:VCALENDAR
VERSION:2.0
PRODID:-//Sabre//Sabre VObject 4.5.8//EN
CALSCALE:GREGORIAN
BEGIN:VEVENT
UID:criticalmass-one-kiel-1477674000
DTSTAMP:20260422T072922Z
SUMMARY:Critical Mass Kiel 28.10.2016
DTSTART;TZID=Europe/Berlin:20161028T190000
DTEND;TZID=Europe/Berlin:20161028T210000
LOCATION:Bootshafen
GEO:54.321106;10.138498
URL;VALUE=URI:https://criticalmass.in/kiel/2016-10-28
END:VEVENT
END:VCALENDAR
