BEGIN:VCALENDAR
VERSION:2.0
PRODID:-//Sabre//Sabre VObject 4.5.8//EN
CALSCALE:GREGORIAN
BEGIN:VEVENT
UID:criticalmass-one-kiel-1448647200
DTSTAMP:20260423T130934Z
SUMMARY:Critical Mass Kiel 27.11.2015
DTSTART;TZID=Europe/Berlin:20151127T190000
DTEND;TZID=Europe/Berlin:20151127T210000
LOCATION:Bootshafen
GEO:54.321106;10.138498
URL;VALUE=URI:https://criticalmass.in/kiel/2015-11-27
END:VEVENT
END:VCALENDAR
