BEGIN:VCALENDAR
VERSION:2.0
PRODID:-//Sabre//Sabre VObject 4.5.8//EN
CALSCALE:GREGORIAN
BEGIN:VEVENT
UID:criticalmass-one-kiel-1446228000
DTSTAMP:20260422T012140Z
SUMMARY:Critical Mass Kiel 30.10.2015
DTSTART;TZID=Europe/Berlin:20151030T190000
DTEND;TZID=Europe/Berlin:20151030T210000
LOCATION:Bootshafen
GEO:54.321106;10.138498
URL;VALUE=URI:https://criticalmass.in/kiel/2015-10-30
END:VEVENT
END:VCALENDAR
