BEGIN:VCALENDAR
VERSION:2.0
PRODID:-//Sabre//Sabre VObject 4.5.8//EN
CALSCALE:GREGORIAN
BEGIN:VEVENT
UID:criticalmass-one-kiel-1406307600
DTSTAMP:20260424T195113Z
SUMMARY:Critical Mass Kiel 25.07.2014
DTSTART;TZID=Europe/Berlin:20140725T190000
DTEND;TZID=Europe/Berlin:20140725T210000
LOCATION:Bootshafen
GEO:54.321106;10.138498
URL;VALUE=URI:https://criticalmass.in/kiel/2014-07-25
END:VEVENT
END:VCALENDAR
