BEGIN:VCALENDAR
VERSION:2.0
PRODID:-//Sabre//Sabre VObject 4.5.8//EN
CALSCALE:GREGORIAN
BEGIN:VEVENT
UID:criticalmass-one-kiel-1396029600
DTSTAMP:20260424T023930Z
SUMMARY:Critical Mass Kiel 28.03.2014
DTSTART;TZID=Europe/Berlin:20140328T190000
DTEND;TZID=Europe/Berlin:20140328T210000
LOCATION:Bootshafen
GEO:54.321106;10.138498
URL;VALUE=URI:https://criticalmass.in/kiel/2014-03-28
END:VEVENT
END:VCALENDAR
