BEGIN:VCALENDAR
VERSION:2.0
PRODID:-//Sabre//Sabre VObject 4.5.8//EN
CALSCALE:GREGORIAN
BEGIN:VEVENT
UID:criticalmass-one-kempten-1619791200
DTSTAMP:20260426T021003Z
SUMMARY:Critical Mass Kempten 30.04.2021
DTSTART;TZID=Europe/Berlin:20210430T160000
DTEND;TZID=Europe/Berlin:20210430T180000
LOCATION:Hildegardplatz
GEO:47.728012;10.310760
URL;VALUE=URI:https://criticalmass.in/kempten/2021-04-30
END:VEVENT
END:VCALENDAR
