BEGIN:VCALENDAR
VERSION:2.0
PRODID:-//Sabre//Sabre VObject 4.5.8//EN
CALSCALE:GREGORIAN
BEGIN:VEVENT
UID:criticalmass-one-kempten-1483113600
DTSTAMP:20260425T231309Z
SUMMARY:Critical Mass Kempten 30.12.2016
DTSTART;TZID=Europe/Berlin:20161230T170000
DTEND;TZID=Europe/Berlin:20161230T190000
LOCATION:Hildegardplatz
GEO:47.728012;10.310760
URL;VALUE=URI:https://criticalmass.in/kempten/2016-12-30
END:VEVENT
END:VCALENDAR
