BEGIN:VCALENDAR
VERSION:2.0
PRODID:-//Sabre//Sabre VObject 4.5.8//EN
CALSCALE:GREGORIAN
BEGIN:VEVENT
UID:criticalmass-one-kehl-1632056400
DTSTAMP:20260422T180118Z
SUMMARY:Kidical Mass Kehl 19.09.2021
DTSTART;TZID=Europe/Berlin:20210919T150000
DTEND;TZID=Europe/Berlin:20210919T170000
LOCATION:Rathausplatz
GEO:48.572017;7.813782
URL;VALUE=URI:https://criticalmass.in/kehl/kidical-mass-kehl-september-2021
END:VEVENT
END:VCALENDAR
