BEGIN:VCALENDAR
VERSION:2.0
PRODID:-//Sabre//Sabre VObject 4.5.8//EN
CALSCALE:GREGORIAN
BEGIN:VEVENT
UID:criticalmass-one-kassel-1688140800
DTSTAMP:20260421T083949Z
SUMMARY:Critical Mass Kassel 30.06.2023
DTSTART;TZID=Europe/Berlin:20230630T180000
DTEND;TZID=Europe/Berlin:20230630T200000
LOCATION:Fridericianum - Friedrichsplatz 18\, 34117 Kassel
GEO:51.313771;9.496982
URL;VALUE=URI:https://criticalmass.in/kassel/2023-06-30
END:VEVENT
END:VCALENDAR
