BEGIN:VCALENDAR
VERSION:2.0
PRODID:-//Sabre//Sabre VObject 4.5.8//EN
CALSCALE:GREGORIAN
BEGIN:VEVENT
UID:criticalmass-one-kaiserslautern-1781946000
DTSTAMP:20260424T161634Z
SUMMARY:Fahrrad Workshop
DESCRIPTION:Am Samstag den 20. Juni findet der nächste Fahrrad Workshop st
 att\nWir starten auf dem Platz zwischen Tourist-Info und Fackelbrunnen\nEs
  geht um 11 Uhr los und dauert bis 17:00\nEingeladen sind alle\, die Hilfe
  bei der Reparatur ihres Bikes brauchen\nAuch engagierte Schrauber sind he
 rzlich willkommen
DTSTART;TZID=Europe/Berlin:20260620T110000
DTEND;TZID=Europe/Berlin:20260620T130000
LOCATION:Platz zwischen Tourist-Info und Fackelbrunnen
GEO:49.444294;7.772355
URL;VALUE=URI:https://criticalmass.in/kaiserslautern/2026-06-20
END:VEVENT
END:VCALENDAR
