BEGIN:VCALENDAR
VERSION:2.0
PRODID:-//Sabre//Sabre VObject 4.5.8//EN
CALSCALE:GREGORIAN
BEGIN:VEVENT
UID:criticalmass-one-kaiserslautern-1766768400
DTSTAMP:20260422T100403Z
SUMMARY:Lautrer Spazierfahrt (Critical Mass Kaiserslautern) 26.12.2025
DTSTART;TZID=Europe/Berlin:20251226T180000
DTEND;TZID=Europe/Berlin:20251226T200000
LOCATION:Stiftsplatz
GEO:49.444294;7.772355
URL;VALUE=URI:https://criticalmass.in/kaiserslautern/2025-12-26
END:VEVENT
END:VCALENDAR
