BEGIN:VCALENDAR
VERSION:2.0
PRODID:-//Sabre//Sabre VObject 4.5.8//EN
CALSCALE:GREGORIAN
BEGIN:VEVENT
UID:criticalmass-one-kaiserslautern-1742043600
DTSTAMP:20260422T114929Z
SUMMARY:Bekannte und unbekannte Plätze in Kaiserslautern
DESCRIPTION:Heute eine Themen Tour:\njeder kennt den Museumsplatz\; aber we
 r den Hilde-Mattauch-Platz.\nEine unterhaltsame entspannte Tour
DTSTART;TZID=Europe/Berlin:20250315T140000
DTEND;TZID=Europe/Berlin:20250315T160000
LOCATION:Stiftsplatz
URL;VALUE=URI:https://criticalmass.in/kaiserslautern/2025-03-15
END:VEVENT
END:VCALENDAR
