BEGIN:VCALENDAR
VERSION:2.0
PRODID:-//Sabre//Sabre VObject 4.5.8//EN
CALSCALE:GREGORIAN
BEGIN:VEVENT
UID:criticalmass-one-kaiserslautern-1729526400
DTSTAMP:20260424T232822Z
SUMMARY:Critical Mass
DTSTART;TZID=Europe/Berlin:20241021T180000
DTEND;TZID=Europe/Berlin:20241021T200000
LOCATION:Stiftsplatz
GEO:49.444306;7.772085
URL;VALUE=URI:https://criticalmass.in/kaiserslautern/2024-10-21
END:VEVENT
END:VCALENDAR
