BEGIN:VCALENDAR
VERSION:2.0
PRODID:-//Sabre//Sabre VObject 4.5.8//EN
CALSCALE:GREGORIAN
BEGIN:VEVENT
UID:criticalmass-one-kaiserslautern-1727107200
DTSTAMP:20260422T202548Z
SUMMARY:Critical Mass
DESCRIPTION:Neustart für die Critical Mass in Kaiserslautern
DTSTART;TZID=Europe/Berlin:20240923T180000
DTEND;TZID=Europe/Berlin:20240923T200000
LOCATION:Stiftsplatz
GEO:49.444318;7.772024
URL;VALUE=URI:https://criticalmass.in/kaiserslautern/2024-09-23
END:VEVENT
END:VCALENDAR
