BEGIN:VCALENDAR
VERSION:2.0
PRODID:-//Sabre//Sabre VObject 4.5.8//EN
CALSCALE:GREGORIAN
BEGIN:VEVENT
UID:criticalmass-one-kaiserslautern-1706284800
DTSTAMP:20260421T151455Z
SUMMARY:Lautrer Spazierfahrt (Critical Mass Kaiserslautern) 26.01.2024
DTSTART;TZID=Europe/Berlin:20240126T170000
DTEND;TZID=Europe/Berlin:20240126T190000
LOCATION:Stiftsplatz
GEO:49.444294;7.772355
URL;VALUE=URI:https://criticalmass.in/kaiserslautern/2024-01-26
END:VEVENT
END:VCALENDAR
