BEGIN:VCALENDAR
VERSION:2.0
PRODID:-//Sabre//Sabre VObject 4.5.8//EN
CALSCALE:GREGORIAN
BEGIN:VEVENT
UID:criticalmass-one-kaiserslautern-1684771200
DTSTAMP:20260423T190059Z
SUMMARY:Critical Mass
DTSTART;TZID=Europe/Berlin:20230522T180000
DTEND;TZID=Europe/Berlin:20230522T200000
LOCATION:Stiftsplatz
GEO:49.444294;7.772355
URL;VALUE=URI:https://criticalmass.in/kaiserslautern/2023-05-22
END:VEVENT
END:VCALENDAR
