BEGIN:VCALENDAR
VERSION:2.0
PRODID:-//Sabre//Sabre VObject 4.5.8//EN
CALSCALE:GREGORIAN
BEGIN:VEVENT
UID:criticalmass-one-kaiserslautern-1682694000
DTSTAMP:20260421T151458Z
SUMMARY:Lautrer Spazierfahrt (Critical Mass Kaiserslautern) 28.04.2023
DTSTART;TZID=Europe/Berlin:20230428T170000
DTEND;TZID=Europe/Berlin:20230428T190000
LOCATION:Stiftsplatz
GEO:49.444294;7.772355
URL;VALUE=URI:https://criticalmass.in/kaiserslautern/2023-04-28
END:VEVENT
END:VCALENDAR
