BEGIN:VCALENDAR
VERSION:2.0
PRODID:-//Sabre//Sabre VObject 4.5.8//EN
CALSCALE:GREGORIAN
BEGIN:VEVENT
UID:criticalmass-one-kaiserslautern-1659106800
DTSTAMP:20260423T125521Z
SUMMARY:Lautrer Spazierfahrt (Critical Mass Kaiserslautern) 29.07.2022
DTSTART;TZID=Europe/Berlin:20220729T170000
DTEND;TZID=Europe/Berlin:20220729T190000
LOCATION:Stiftsplatz
GEO:49.444294;7.772355
URL;VALUE=URI:https://criticalmass.in/kaiserslautern/2022-07-29
END:VEVENT
END:VCALENDAR
