BEGIN:VCALENDAR
VERSION:2.0
PRODID:-//Sabre//Sabre VObject 4.5.8//EN
CALSCALE:GREGORIAN
BEGIN:VEVENT
UID:criticalmass-one-kaiserslautern-1645804800
DTSTAMP:20260421T225344Z
SUMMARY:Lautrer Spazierfahrt (Critical Mass Kaiserslautern) 25.02.2022
DTSTART;TZID=Europe/Berlin:20220225T170000
DTEND;TZID=Europe/Berlin:20220225T190000
LOCATION:Stiftsplatz
GEO:49.444294;7.772355
URL;VALUE=URI:https://criticalmass.in/kaiserslautern/2022-02-25
END:VEVENT
END:VCALENDAR
