BEGIN:VCALENDAR
VERSION:2.0
PRODID:-//Sabre//Sabre VObject 4.5.8//EN
CALSCALE:GREGORIAN
BEGIN:VEVENT
UID:criticalmass-one-kaiserslautern-1643385600
DTSTAMP:20260422T100412Z
SUMMARY:Lautrer Spazierfahrt (Critical Mass Kaiserslautern) 28.01.2022
DTSTART;TZID=Europe/Berlin:20220128T170000
DTEND;TZID=Europe/Berlin:20220128T190000
LOCATION:Stiftsplatz
GEO:49.444294;7.772355
URL;VALUE=URI:https://criticalmass.in/kaiserslautern/2022-01-28
END:VEVENT
END:VCALENDAR
