BEGIN:VCALENDAR
VERSION:2.0
PRODID:-//Sabre//Sabre VObject 4.5.8//EN
CALSCALE:GREGORIAN
BEGIN:VEVENT
UID:criticalmass-one-kaiserslautern-1640966400
DTSTAMP:20260423T035626Z
SUMMARY:Lautrer Spazierfahrt (Critical Mass Kaiserslautern) 31.12.2021
DTSTART;TZID=Europe/Berlin:20211231T170000
DTEND;TZID=Europe/Berlin:20211231T190000
LOCATION:Stiftsplatz
GEO:49.444294;7.772355
URL;VALUE=URI:https://criticalmass.in/kaiserslautern/2021-12-31
END:VEVENT
END:VCALENDAR
