BEGIN:VCALENDAR
VERSION:2.0
PRODID:-//Sabre//Sabre VObject 4.5.8//EN
CALSCALE:GREGORIAN
BEGIN:VEVENT
UID:criticalmass-one-kaiserslautern-1635519600
DTSTAMP:20260422T202448Z
SUMMARY:Lautrer Spazierfahrt (Critical Mass Kaiserslautern) 29.10.2021
DTSTART;TZID=Europe/Berlin:20211029T170000
DTEND;TZID=Europe/Berlin:20211029T190000
LOCATION:Stiftsplatz
GEO:49.444294;7.772355
URL;VALUE=URI:https://criticalmass.in/kaiserslautern/2021-10-29
END:VEVENT
END:VCALENDAR
