BEGIN:VCALENDAR
VERSION:2.0
PRODID:-//Sabre//Sabre VObject 4.5.8//EN
CALSCALE:GREGORIAN
BEGIN:VEVENT
UID:criticalmass-one-kaiserslautern-1627657200
DTSTAMP:20260421T151458Z
SUMMARY:Lautrer Spazierfahrt (Critical Mass Kaiserslautern) 30.07.2021
DTSTART;TZID=Europe/Berlin:20210730T170000
DTEND;TZID=Europe/Berlin:20210730T190000
LOCATION:Stiftsplatz
GEO:49.444294;7.772355
URL;VALUE=URI:https://criticalmass.in/kaiserslautern/2021-07-30
END:VEVENT
END:VCALENDAR
